BEGIN:VCALENDAR
VERSION:2.0
PRODID:-//Whittlesea Community Connections - ECPv6.15.18//NONSGML v1.0//EN
CALSCALE:GREGORIAN
METHOD:PUBLISH
X-WR-CALNAME:Whittlesea Community Connections
X-ORIGINAL-URL:https://www.whittleseacommunityconnections.org.au
X-WR-CALDESC:Events for Whittlesea Community Connections
REFRESH-INTERVAL;VALUE=DURATION:PT1H
X-Robots-Tag:noindex
X-PUBLISHED-TTL:PT1H
BEGIN:VTIMEZONE
TZID:Australia/Perth
BEGIN:STANDARD
TZOFFSETFROM:+0800
TZOFFSETTO:+0800
TZNAME:AWST
DTSTART:20200101T000000
END:STANDARD
END:VTIMEZONE
BEGIN:VEVENT
DTSTART;TZID=Australia/Perth:20220317T110000
DTEND;TZID=Australia/Perth:20220317T143000
DTSTAMP:20260420T034931
CREATED:20220309T055228Z
LAST-MODIFIED:20220309T070932Z
UID:2092-1647514800-1647527400@www.whittleseacommunityconnections.org.au
SUMMARY:Job Advocates at Westfield Plenty Valley Shopping Centre
DESCRIPTION:Jobs Victoria Advocates support people who are looking for work by connecting them to information\, advice and the right services. \nHow can a Jobs Victoria Advocate help you? \n\nA Jobs Victoria Advocate can help get you started.\nWe can connect you with skills and training through Work and Learning Centres\, TAFE Skills and Jobs Centres\, and apprenticeships.\nWe can help you apply for jobs through the Jobs Victoria Hub.\nIf you need more support\, we can link you to a service that can provide hands-on support such as CV and interview skills\, and then help you find a job.
URL:https://www.whittleseacommunityconnections.org.au/event/job-advocates-at-westfield-plenty-valley-shopping-centre/
LOCATION:Westfield Plenty Valley\, 415 McDonalds Road\,\, South Morang\, Victoria\, 3752\, Australia
ATTACH;FMTTYPE=image/jpeg:https://www.whittleseacommunityconnections.org.au/wp-content/uploads/2022/03/Calendar-140322.jpg
END:VEVENT
BEGIN:VEVENT
DTSTART;TZID=Australia/Perth:20220316T103000
DTEND;TZID=Australia/Perth:20220316T150000
DTSTAMP:20260420T034931
CREATED:20220309T054056Z
LAST-MODIFIED:20220309T070852Z
UID:2086-1647426600-1647442800@www.whittleseacommunityconnections.org.au
SUMMARY:Job Advocates at Melbourne Polytechnic Epping Campus
DESCRIPTION:Jobs Victoria Advocates support people who are looking for work by connecting them to information\, advice and the right services. \nHow can a Jobs Victoria Advocate help you? \n\nA Jobs Victoria Advocate can help get you started.\nWe can connect you with skills and training through Work and Learning Centres\, TAFE Skills and Jobs Centres\, and apprenticeships.\nWe can help you apply for jobs through the Jobs Victoria Hub.\nIf you need more support\, we can link you to a service that can provide hands-on support such as CV and interview skills\, and then help you find a job.
URL:https://www.whittleseacommunityconnections.org.au/event/job-advocates-at-melbourne-polytechnic-epping-campus/
LOCATION:Melbourne Polytechnic\, Cooper St & Dalton Road\,\, Epping\, Victoria\, 3076\, Australia
ATTACH;FMTTYPE=image/jpeg:https://www.whittleseacommunityconnections.org.au/wp-content/uploads/2022/03/Calendar-140322.jpg
END:VEVENT
BEGIN:VEVENT
DTSTART;TZID=Australia/Perth:20220315T113000
DTEND;TZID=Australia/Perth:20220315T150000
DTSTAMP:20260420T034931
CREATED:20220309T034435Z
LAST-MODIFIED:20220309T070442Z
UID:2081-1647343800-1647356400@www.whittleseacommunityconnections.org.au
SUMMARY:Job Advocates at Mill Park Library
DESCRIPTION:Jobs Victoria Advocates support people who are looking for work by connecting them to information\, advice and the right services. \nHow can a Jobs Victoria Advocate help you? \n\nA Jobs Victoria Advocate can help get you started.\nWe can connect you with skills and training through Work and Learning Centres\, TAFE Skills and Jobs Centres\, and apprenticeships.\nWe can help you apply for jobs through the Jobs Victoria Hub.\nIf you need more support\, we can link you to a service that can provide hands-on support such as CV and interview skills\, and then help you find a job.
URL:https://www.whittleseacommunityconnections.org.au/event/job-advocates-at-mill-park-library/
LOCATION:Mill Park Library\, 394 Plenty Road\,\, Mill Park\, Victoria\, 3082\, Australia
ATTACH;FMTTYPE=image/jpeg:https://www.whittleseacommunityconnections.org.au/wp-content/uploads/2022/03/Calendar-140322.jpg
END:VEVENT
BEGIN:VEVENT
DTSTART;VALUE=DATE:20220308
DTEND;VALUE=DATE:20220309
DTSTAMP:20260420T034931
CREATED:20220308T011300Z
LAST-MODIFIED:20220308T011300Z
UID:2053-1646697600-1646783999@www.whittleseacommunityconnections.org.au
SUMMARY:International Women's Day
DESCRIPTION:International Women’s Day (IWD) is a time to honour the courage and determination of all women. WCC celebrated IWD with women who participate in and lead our women’s groups in the City of Whittlesea. It is these women whose voices\, support and advocacy help pave the way for gender equality in our community. Local community leader\, Krishanthi Liyanage\, presented at our event by paying homage to the strength and resilience of women with her beautiful poem ‘Women’.\n\n\nWOMEN\n\n\nWho is she?\nHow did she come to our world?\nDid she come through a fairy dream?\nYou are soft\, beautiful\, so lovely & strong.\nYour smile will give breath to this world.\nWho are you?\nI don’t know.\nYou are a very lovely mother to your baby.\nyou are a dear wife to your husband.\nYou are a valuable sister for your brother.\nYou are a kind grandma to your grandchildren.\nYou are a friend in an everlasting friendship.\nBut I know your relationships are way off connecting everyone’s life together.\nsometimes you are a nurse providing care to the patients.\nsometimes you are a teacher sharing your knowledge with your students.\nSometimes you are a singer and your voice will attracting everyone’s mind.\nSometimes you are a dancer capturing everyone’s heart.\nSometimes you are an artist creating unique artworks.\nSometimes you are a chef making delicious meals.\nYou are a precious creation of this beautiful world.\nYou are a WOMAN.\nGreatest gift of the whole world.\nPlease protect her with your whole heart.\nPlease love her forever.
URL:https://www.whittleseacommunityconnections.org.au/event/international-womens-day/
LOCATION:Whittlesea Main Office\, Shop 111\, Pacific Epping\, Epping\, Victoria\, 3076\, Australia
ATTACH;FMTTYPE=image/jpeg:https://www.whittleseacommunityconnections.org.au/wp-content/uploads/2022/03/275405399_4887098708045680_7802051013572561990_n.jpg
END:VEVENT
BEGIN:VEVENT
DTSTART;TZID=Australia/Perth:20220203T020000
DTEND;TZID=Australia/Perth:20220203T173000
DTSTAMP:20260420T034931
CREATED:20220119T000143Z
LAST-MODIFIED:20220119T000529Z
UID:1936-1643853600-1643909400@www.whittleseacommunityconnections.org.au
SUMMARY:City of Whittlesea Local Jobs Fair
DESCRIPTION:Dive into the leisure and hospitality sectors at this free jobs fair for 16-30 year olds.\n\nJoin us for this local jobs fair where we will showcase local jobs and work experience in the leisure and hospitality sectors.\n\nDelivered by Whittlesea Community Connections Job Advocacy Service in partnership with Belgravia Leisure and the Restaurant & Catering Association\, this is a great opportunity to hear from employers who have a significant number of vacancies in these sectors for local job seekers.
URL:https://www.whittleseacommunityconnections.org.au/event/city-of-whittlesea-local-jobs-fair/
LOCATION:Mill Park Leisure Centre\, 33 Morang Drive\, Mill Park VIC 3082\, Victoria\, 3082\, Australia
ATTACH;FMTTYPE=image/jpeg:https://www.whittleseacommunityconnections.org.au/wp-content/uploads/2022/01/CoW-Local-Jobs-Fair-A4-Poster-V3.jpg
ORGANIZER;CN="Whittlesea Community Connections":MAILTO:admin@whittleseacc.org.au
END:VEVENT
BEGIN:VEVENT
DTSTART;TZID=Australia/Perth:20211208T103000
DTEND;TZID=Australia/Perth:20211208T120000
DTSTAMP:20260420T034931
CREATED:20210927T220250Z
LAST-MODIFIED:20211028T005410Z
UID:1701-1638959400-1638964800@www.whittleseacommunityconnections.org.au
SUMMARY:Women\, Work & Money 4: Tax in Australia
DESCRIPTION:Gain the money knowledge you need to start work in Australia. Learn about tax in Australia\, how to get a Tax File Number\, and how to claim your tax return. Workshop on Zoom. \nEmail jbarnes@whittleseacc.org.au to register.
URL:https://www.whittleseacommunityconnections.org.au/event/women-work-money-4-tax-in-australia/
LOCATION:Online
ORGANIZER;CN="Whittlesea Community Connections":MAILTO:admin@whittleseacc.org.au
END:VEVENT
BEGIN:VEVENT
DTSTART;TZID=Australia/Perth:20211207T110000
DTEND;TZID=Australia/Perth:20211207T140000
DTSTAMP:20260420T034931
CREATED:20211205T233344Z
LAST-MODIFIED:20211205T233344Z
UID:1919-1638874800-1638885600@www.whittleseacommunityconnections.org.au
SUMMARY:Jobs Victoria Advocates Employment Support
DESCRIPTION:Meet our team at Mill Park Library to discuss jobs\, education\, volunteer opportunities\, and other community services. We will be at Mill Park Library on:\n• Tuesdays: 7th Dec & 14th Dec\, 2021-11:00am-2:00pm\n• Wednesdays: 8th Dec & 15th Dec\, 2021-11:00am-2:00pm
URL:https://www.whittleseacommunityconnections.org.au/event/jobs-victoria-advocates-employment-support/
LOCATION:Online
ORGANIZER;CN="Whittlesea Community Connections":MAILTO:admin@whittleseacc.org.au
END:VEVENT
BEGIN:VEVENT
DTSTART;TZID=Australia/Perth:20211201T103000
DTEND;TZID=Australia/Perth:20211201T120000
DTSTAMP:20260420T034931
CREATED:20210927T220135Z
LAST-MODIFIED:20211028T005321Z
UID:1699-1638354600-1638360000@www.whittleseacommunityconnections.org.au
SUMMARY:Women\, Work & Money 3: What is Superannuation?
DESCRIPTION:Gain the money knowledge you need to start work in Australia. Find out what superannuation is and how to give your super account details to your employer. Plus\, learn how to claim Child Care Subsidy. Workshop on Zoom. \nEmail jbarnes@whittleseacc.org.au to register.
URL:https://www.whittleseacommunityconnections.org.au/event/women-work-money-3-what-is-superannuation/
LOCATION:Online
ORGANIZER;CN="Whittlesea Community Connections":MAILTO:admin@whittleseacc.org.au
END:VEVENT
BEGIN:VEVENT
DTSTART;TZID=Australia/Perth:20211124T103000
DTEND;TZID=Australia/Perth:20211124T120000
DTSTAMP:20260420T034931
CREATED:20210927T220018Z
LAST-MODIFIED:20211028T005205Z
UID:1697-1637749800-1637755200@www.whittleseacommunityconnections.org.au
SUMMARY:Women\, Work & Money 2: Choosing a Bank Account
DESCRIPTION:Gain the money knowledge you need to start work in Australia. Learn how to set up a bank account so you can be paid.  Workshop on Zoom. \nEmail jbarnes@whittleseacc.org.au to register.
URL:https://www.whittleseacommunityconnections.org.au/event/women-work-money-2-choosing-a-bank-account/
LOCATION:Online
ORGANIZER;CN="Whittlesea Community Connections":MAILTO:admin@whittleseacc.org.au
END:VEVENT
BEGIN:VEVENT
DTSTART;TZID=Australia/Perth:20211117T103000
DTEND;TZID=Australia/Perth:20211117T120000
DTSTAMP:20260420T034931
CREATED:20210927T215733Z
LAST-MODIFIED:20211028T005034Z
UID:1695-1637145000-1637150400@www.whittleseacommunityconnections.org.au
SUMMARY:Women\, Work & Money 1: Your Relationship With Money
DESCRIPTION:Gain the money knowledge you need to start work in Australia. Understand your attitudes to money so you can make good financial decisions. Find out about No Interest Loans Scheme (NILS) loans. Workshop on Zoom. \nEmail jbarnes@whittleseacc.org.au to register.
URL:https://www.whittleseacommunityconnections.org.au/event/women-work-money-1-your-relationship-with-money/
LOCATION:Online
ORGANIZER;CN="Whittlesea Community Connections":MAILTO:admin@whittleseacc.org.au
END:VEVENT
BEGIN:VEVENT
DTSTART;TZID=Australia/Perth:20211111T010000
DTEND;TZID=Australia/Perth:20211111T023000
DTSTAMP:20260420T034931
CREATED:20211006T001745Z
LAST-MODIFIED:20211006T010000Z
UID:1750-1636592400-1636597800@www.whittleseacommunityconnections.org.au
SUMMARY:Women’s Return to the Workforce 4: Work & Family Roles
DESCRIPTION:Prepare to apply for the Digital Jobs program and general recruitment. Understand Child Care Subsidy and how your income contributes to the family budget. Discuss your new family role and gaining support. Workshop on Zoom. Email jbarnes@whittleseacc.org.au to register. \n* Time subject to change depending on remote learning arrangements.
URL:https://www.whittleseacommunityconnections.org.au/event/work-family-roles/
LOCATION:Online
ATTACH;FMTTYPE=image/png:https://www.whittleseacommunityconnections.org.au/wp-content/uploads/2021/10/Womens-Return-to-Workforce-details-sml.png
ORGANIZER;CN="Whittlesea Community Connections":MAILTO:admin@whittleseacc.org.au
END:VEVENT
BEGIN:VEVENT
DTSTART;VALUE=DATE:20211108
DTEND;VALUE=DATE:20211130
DTSTAMP:20260420T034931
CREATED:20211027T232202Z
LAST-MODIFIED:20211027T232202Z
UID:1877-1636329600-1638230399@www.whittleseacommunityconnections.org.au
SUMMARY:Introduction to Community Services
DESCRIPTION:Learn Local is providing free accredited courses in a number of different disciplines that could prepare you for employment pathways!\n\n\nPlease refer to the flyer below for more information and enquiry contact details.
URL:https://www.whittleseacommunityconnections.org.au/event/introduction-to-community-services/
LOCATION:Online
ATTACH;FMTTYPE=image/jpeg:https://www.whittleseacommunityconnections.org.au/wp-content/uploads/2021/10/community-service-flyer.jpg
ORGANIZER;CN="Whittlesea Community Connections":MAILTO:admin@whittleseacc.org.au
END:VEVENT
BEGIN:VEVENT
DTSTART;TZID=Australia/Perth:20211104T010000
DTEND;TZID=Australia/Perth:20211104T023000
DTSTAMP:20260420T034931
CREATED:20211006T001636Z
LAST-MODIFIED:20211006T005905Z
UID:1748-1635987600-1635993000@www.whittleseacommunityconnections.org.au
SUMMARY:Women’s Return to the Workforce 3: Confidence and Career Change
DESCRIPTION:Prepare to apply for the Digital Jobs program and general recruitment. Learn about career adaptability and the skills needed to change careers. Gain strategies and tools for career decision making. Workshop on Zoom. Email jbarnes@whittleseacc.org.au to register. \n* Time subject to change depending on remote learning arrangements.
URL:https://www.whittleseacommunityconnections.org.au/event/confidence-career-change/
LOCATION:Online
ATTACH;FMTTYPE=image/png:https://www.whittleseacommunityconnections.org.au/wp-content/uploads/2021/10/Womens-Return-to-Workforce-details-sml.png
ORGANIZER;CN="Whittlesea Community Connections":MAILTO:admin@whittleseacc.org.au
END:VEVENT
BEGIN:VEVENT
DTSTART;TZID=Australia/Perth:20211028T130000
DTEND;TZID=Australia/Perth:20211028T143000
DTSTAMP:20260420T034931
CREATED:20211006T001525Z
LAST-MODIFIED:20211028T005624Z
UID:1746-1635426000-1635431400@www.whittleseacommunityconnections.org.au
SUMMARY:Women’s Return to the Workforce 2: Interviews and Assessments
DESCRIPTION:Prepare to apply for the Digital Jobs program and general recruitment. Understand behavioural interviewing and psychometric assessment processes. Explore how interviews and selection is conducted in the digital age. Workshop on Zoom. Email jbarnes@whittleseacc.org.au to register. \n* Time subject to change depending on remote learning arrangements.
URL:https://www.whittleseacommunityconnections.org.au/event/interviews-assessments/
LOCATION:Online
ORGANIZER;CN="Whittlesea Community Connections":MAILTO:admin@whittleseacc.org.au
END:VEVENT
BEGIN:VEVENT
DTSTART;TZID=Australia/Perth:20211021T130000
DTEND;TZID=Australia/Perth:20211021T143000
DTSTAMP:20260420T034931
CREATED:20211006T001416Z
LAST-MODIFIED:20211006T005737Z
UID:1743-1634821200-1634826600@www.whittleseacommunityconnections.org.au
SUMMARY:Women’s Return to the Workforce 1: Resume Refresh
DESCRIPTION:Prepare to apply for the Digital Jobs program and general recruitment. Learn how to describe your experience and strengths on a contemporary resume\, and understand Applicant Tracking Systems. Workshop on Zoom. Email jbarnes@whittleseacc.org.au to register. \n* Time subject to change depending on remote learning arrangements.
URL:https://www.whittleseacommunityconnections.org.au/event/resume-refresh/
LOCATION:Online
ATTACH;FMTTYPE=image/png:https://www.whittleseacommunityconnections.org.au/wp-content/uploads/2021/10/Womens-Return-to-Workforce-details-sml.png
ORGANIZER;CN="Whittlesea Community Connections":MAILTO:admin@whittleseacc.org.au
END:VEVENT
BEGIN:VEVENT
DTSTART;TZID=Australia/Perth:20211020T130000
DTEND;TZID=Australia/Perth:20211020T143000
DTSTAMP:20260420T034931
CREATED:20211012T024243Z
LAST-MODIFIED:20211012T024243Z
UID:1791-1634734800-1634740200@www.whittleseacommunityconnections.org.au
SUMMARY:Jobs Victoria Online Workshop - 'Key Words'
DESCRIPTION:Our Employment team at WCC is organising an online workshop on how to tailor resumes according to job descriptions and the use of keywords to make your resume stand out.\n\n\nJoin us on 20th October from 1:00pm to 2:30pm on Zoom. To register your interest call 9401 6666 or email at jobadvocates@whittleseacc.org.au.\n\n\nNote: Zoom link will be provided after the registration is completed.
URL:https://www.whittleseacommunityconnections.org.au/event/jobs-victoria-online-workshop-key-words/
LOCATION:Online
ATTACH;FMTTYPE=image/jpeg:https://www.whittleseacommunityconnections.org.au/wp-content/uploads/2021/10/Online-workshop-Key-words-scaled.jpg
ORGANIZER;CN="Whittlesea Community Connections":MAILTO:admin@whittleseacc.org.au
END:VEVENT
BEGIN:VEVENT
DTSTART;TZID=Australia/Perth:20211019T180000
DTEND;TZID=Australia/Perth:20211019T200000
DTSTAMP:20260420T034931
CREATED:20211014T015426Z
LAST-MODIFIED:20211014T015426Z
UID:1803-1634666400-1634673600@www.whittleseacommunityconnections.org.au
SUMMARY:COVID-19 Awareness Forum 19 October via Zoom @ 6 pm
DESCRIPTION:This forum will provide you with the opportunity to ask any questions regarding COVID-19 vaccinations\, and directly address any concerns you may have. The forum was organised for urgent action as a joint effort between both community leaders and community organisations. \n  \nSession time: October 19th\, 6:00 pm – 8:00 pm\nJoin Zoom Meeting\nhttps://us02web.zoom.us/j/86802353928?pwd=Qk5jblVmZCtKYm5TYXRONEZxMk5BUT09\nMeeting ID: 868 0235 3928\nPasscode: 892980
URL:https://www.whittleseacommunityconnections.org.au/event/covid-19-awareness-forum-19-october-via-zoom-6-pm/
LOCATION:Online
ATTACH;FMTTYPE=image/jpeg:https://www.whittleseacommunityconnections.org.au/wp-content/uploads/2021/10/COVID-19-English-Flyer.jpg
ORGANIZER;CN="Whittlesea Community Connections":MAILTO:admin@whittleseacc.org.au
END:VEVENT
BEGIN:VEVENT
DTSTART;VALUE=DATE:20211018
DTEND;VALUE=DATE:20211025
DTSTAMP:20260420T034932
CREATED:20211018T002509Z
LAST-MODIFIED:20211018T002509Z
UID:1848-1634515200-1635119999@www.whittleseacommunityconnections.org.au
SUMMARY:Week Without Violence 2021
DESCRIPTION:During the Week Without Violence\, it is a reminder to connect\, listen to\, and believe people who talk about their experience of family violence. If you or someone you know is experiencing family violence\, help is available. Access multi-language posters about support services in the northern metropolitan region.  \nCampaign messages are available in English\, Arabic\, Chinese\, Farsi\, Hindi\, Punjabi\, Turkish and Vietnamese.
URL:https://www.whittleseacommunityconnections.org.au/event/week-without-violence-2021/
LOCATION:Online
ATTACH;FMTTYPE=image/jpeg:https://www.whittleseacommunityconnections.org.au/wp-content/uploads/2021/10/nifvs_wwv2021_instagram_1080_x_1080px-web.jpg
ORGANIZER;CN="Northern Integrated Family Violence Services":MAILTO:info@whin.org.au
END:VEVENT
BEGIN:VEVENT
DTSTART;TZID=Australia/Perth:20211014T140000
DTEND;TZID=Australia/Perth:20211014T160000
DTSTAMP:20260420T034932
CREATED:20211006T001003Z
LAST-MODIFIED:20211006T005641Z
UID:1740-1634220000-1634227200@www.whittleseacommunityconnections.org.au
SUMMARY:Digital Jobs Program
DESCRIPTION:Come learn about this free digital skills training program and 12-week paid internship created for people who’ve never worked in tech jobs before. Open to Victorian residents aged 30+ with working rights. Find out more at our Zoom information session. Email jobadvocates@whittleseacc.org.au to register.
URL:https://www.whittleseacommunityconnections.org.au/event/digital-jobs-program/
LOCATION:Online
ATTACH;FMTTYPE=image/png:https://www.whittleseacommunityconnections.org.au/wp-content/uploads/2021/10/Heard-about-the-Digital-Jobs-program-sml.png
ORGANIZER;CN="Whittlesea Community Connections":MAILTO:admin@whittleseacc.org.au
END:VEVENT
BEGIN:VEVENT
DTSTART;TZID=Australia/Perth:20210923T130000
DTEND;TZID=Australia/Perth:20210923T140000
DTSTAMP:20260420T034932
CREATED:20210916T033138Z
LAST-MODIFIED:20210929T025507Z
UID:1643-1632402000-1632405600@www.whittleseacommunityconnections.org.au
SUMMARY:Build Your Resume
DESCRIPTION:Are you applying for a job? Want to improve your resume? Help is here!\n\n\n \n\n\nOur Employment team at WCC is hosting a two-part online resume building workshop on Thursday 23 Sept and Thursday 30 Sept.\n\n\n \n\n\nTo register your interest call 9401 6666 or email jobadvocates@whittleseacc.org.au\n\n\n \n\n\nNote: Zoom link will be provided after the registration is completed.
URL:https://www.whittleseacommunityconnections.org.au/event/build-your-resume/
LOCATION:Online
ATTACH;FMTTYPE=image/jpeg:https://www.whittleseacommunityconnections.org.au/wp-content/uploads/2021/09/Resume-Writing-Workshop-1-212x300-1.jpg
ORGANIZER;CN="Whittlesea Community Connections":MAILTO:admin@whittleseacc.org.au
END:VEVENT
BEGIN:VEVENT
DTSTART;TZID=Australia/Perth:20210918T110000
DTEND;TZID=Australia/Perth:20210918T120000
DTSTAMP:20260420T034932
CREATED:20210906T023403Z
LAST-MODIFIED:20210906T023535Z
UID:1553-1631962800-1631966400@www.whittleseacommunityconnections.org.au
SUMMARY:The Art of Saying 'NO'
DESCRIPTION:Whittlesea Community Connections proudly presents ‘The Are of Saying NO’.\n\n\nRegister for this online event at:\nhttps://forms.gle/srypWc6CXBuqDwep7
URL:https://www.whittleseacommunityconnections.org.au/event/the-art-of-saying-no/
LOCATION:Online
END:VEVENT
BEGIN:VEVENT
DTSTART;TZID=Australia/Perth:20210916T123000
DTEND;TZID=Australia/Perth:20210916T133000
DTSTAMP:20260420T034932
CREATED:20210908T070807Z
LAST-MODIFIED:20210908T072159Z
UID:1570-1631795400-1631799000@www.whittleseacommunityconnections.org.au
SUMMARY:Resume Writing Workshop (JVES)
DESCRIPTION:Are you applying for a job? Do you want to improve your resume?\n\n\nOur Jobs Victoria Advocates team at WCC are here to help!\n\n\n \n\n\nPlease contact Sonali to register your interest via email at: jobadvocates@whittleseacc.org.au or contact Whittlesea Community Connections on 9401 6666
URL:https://www.whittleseacommunityconnections.org.au/event/resume-writing-workshop-jves/
LOCATION:Online
ORGANIZER;CN="Whittlesea Community Connections":MAILTO:admin@whittleseacc.org.au
END:VEVENT
BEGIN:VEVENT
DTSTART;TZID=Australia/Perth:20210916T110000
DTEND;TZID=Australia/Perth:20210916T120000
DTSTAMP:20260420T034932
CREATED:20210913T235252Z
LAST-MODIFIED:20210913T235252Z
UID:1637-1631790000-1631793600@www.whittleseacommunityconnections.org.au
SUMMARY:Let's Talk About Menopause
DESCRIPTION:Information Flyer
URL:https://www.whittleseacommunityconnections.org.au/event/lets-talk-about-menopause/
LOCATION:Online
ORGANIZER;CN="Whittlesea Community Connections":MAILTO:admin@whittleseacc.org.au
END:VEVENT
BEGIN:VEVENT
DTSTART;TZID=Australia/Perth:20210910T110000
DTEND;TZID=Australia/Perth:20210910T120000
DTSTAMP:20260420T034932
CREATED:20210908T040901Z
LAST-MODIFIED:20210908T040901Z
UID:1568-1631271600-1631275200@www.whittleseacommunityconnections.org.au
SUMMARY:ZUMBA Class With Catalina
DESCRIPTION:Join Zoom Meeting:\nhttps://us02web.zoom.us/j/85293555799?pwd=WFFLeTd5ZlRNbXZiSEgxS0V4eHlyQT09\, \nMeeting ID: 852 9355 5799\nPasscode: dance
URL:https://www.whittleseacommunityconnections.org.au/event/zumba-class-with-catalina/
LOCATION:Online
ORGANIZER;CN="Whittlesea Community Connections":MAILTO:admin@whittleseacc.org.au
END:VEVENT
BEGIN:VEVENT
DTSTART;TZID=Australia/Perth:20210909T130000
DTEND;TZID=Australia/Perth:20210909T143000
DTSTAMP:20260420T034933
CREATED:20210830T040301Z
LAST-MODIFIED:20210830T040301Z
UID:1535-1631192400-1631197800@www.whittleseacommunityconnections.org.au
SUMMARY:Job Victoria Advocates & Whittlesea Women Association Job Advisory Session
DESCRIPTION:Are you looking for a job? Help is here!  \nOur Job Victoria Advocates team at WCC and Whittlesea Women Association are hosting a job advisory session on Zoom on Thursday\, 9th September 2021 \nPlease contact Sonali to register your interest via email at ssehgal@whittleseacc.org.au or contact 9401 6666 \n  \nNote: Zoom link will be provided after the registration is completed.
URL:https://www.whittleseacommunityconnections.org.au/event/job-victoria-advocates-whittlesea-women-association-job-advisory-session/
LOCATION:VIC
END:VEVENT
BEGIN:VEVENT
DTSTART;TZID=Australia/Perth:20210909T113000
DTEND;TZID=Australia/Perth:20210909T123000
DTSTAMP:20260420T034933
CREATED:20210908T040732Z
LAST-MODIFIED:20210908T040732Z
UID:1566-1631187000-1631190600@www.whittleseacommunityconnections.org.au
SUMMARY:Chair Yoga\, with Susie
DESCRIPTION:Join Zoom Meeting:\nhttps://us02web.zoom.us/j/84095380425?pwd=WkhhVDZtOW1NTE5Hak9HZXJiNmpwQT09 \nMeeting ID: 840 9538 0425 \nPasscode: 802141
URL:https://www.whittleseacommunityconnections.org.au/event/chair-yoga-with-susie/
LOCATION:Online
ORGANIZER;CN="Whittlesea Community Connections":MAILTO:admin@whittleseacc.org.au
END:VEVENT
BEGIN:VEVENT
DTSTART;TZID=Australia/Perth:20210906T153000
DTEND;TZID=Australia/Perth:20210906T163000
DTSTAMP:20260420T034935
CREATED:20210905T232110Z
LAST-MODIFIED:20210905T232110Z
UID:1548-1630942200-1630945800@www.whittleseacommunityconnections.org.au
SUMMARY:Laughter Yoga with Kym
DESCRIPTION:https://us02web.zoom.us/j/87402265981?pwd=TmsyRUQ4QUlQWmNuSE5PTk4ySnRkUT09\, \nMeeting ID: 874 0226 5981\nPasscode: laughter
URL:https://www.whittleseacommunityconnections.org.au/event/laughter-yoga-with-kym/
LOCATION:Online
END:VEVENT
BEGIN:VEVENT
DTSTART;TZID=Australia/Perth:20210827T133000
DTEND;TZID=Australia/Perth:20210827T144500
DTSTAMP:20260420T034936
CREATED:20210816T013228Z
LAST-MODIFIED:20210816T014534Z
UID:1480-1630071000-1630075500@www.whittleseacommunityconnections.org.au
SUMMARY:Women & Small Business Information Session
DESCRIPTION:Come and learn about the stepping stones of small business practice tailored for women from refugee and migrant backgrounds!\n\n\n\nWe will also talk about: \n\nInterests and skills you can turn into a small business\nLocal markets and online selling options\nDifferent types of small business support programs\n\n\n\nPlease register here to receive the Zoom link: https://forms.gle/Hgw92ubgvgUvir4r5
URL:https://www.whittleseacommunityconnections.org.au/event/women-small-business-information-session/
LOCATION:Online
CATEGORIES:Employment Support
ORGANIZER;CN="Whittlesea Community Connections":MAILTO:admin@whittleseacc.org.au
END:VEVENT
BEGIN:VEVENT
DTSTART;TZID=Australia/Perth:20210826T133000
DTEND;TZID=Australia/Perth:20210826T143000
DTSTAMP:20260420T034936
CREATED:20210824T002835Z
LAST-MODIFIED:20210824T005432Z
UID:1522-1629984600-1629988200@www.whittleseacommunityconnections.org.au
SUMMARY:Jobs Advocates Victoria - Online Help & Support
DESCRIPTION:Are you looking for a job?  \nHelp is here!  \nOur Job Victoria Advocates team at WCC are organising an online information session on Zoom on Thursday\, 26th August 2021. \nPlease contact Sonali to register your interest via email at ssehgal@whittleseacc.org.au or contact 9401 6666.
URL:https://www.whittleseacommunityconnections.org.au/event/jobs-advocates-victoria-online-help-support/
LOCATION:Online
END:VEVENT
BEGIN:VEVENT
DTSTART;TZID=Australia/Perth:20210722T093000
DTEND;TZID=Australia/Perth:20210722T120000
DTSTAMP:20260420T034936
CREATED:20210708T092124Z
LAST-MODIFIED:20210708T092124Z
UID:1246-1626946200-1626955200@www.whittleseacommunityconnections.org.au
SUMMARY:Cross Cultural Leaders Training
DESCRIPTION:Cross Cultural Leaders Training will provide attendees with an understanding of the benefits of working in a diverse environment. \nLearning outcomes : \n\nTo support volunteer involving organisations with a better understanding of engaging with volunteers from a CALD background\nPromote the benefits of a diverse volunteer workforce\nA checklist to make the workplace more diverse and inclusive.
URL:https://www.whittleseacommunityconnections.org.au/event/cross-cultural-leaders-training/
LOCATION:Online
CATEGORIES:Volunteering
ATTACH;FMTTYPE=image/jpeg:https://www.whittleseacommunityconnections.org.au/wp-content/uploads/2021/07/https___cdn.evbuc_.com_images_135711095_479881641747_1_original.jpg
ORGANIZER;CN="Whittlesea Community Connections":MAILTO:admin@whittleseacc.org.au
END:VEVENT
END:VCALENDAR